BEGIN:VCALENDAR
VERSION:2.0
PRODID:-//Hush Acoustics - ECPv6.15.20//NONSGML v1.0//EN
CALSCALE:GREGORIAN
METHOD:PUBLISH
X-ORIGINAL-URL:https://hushacoustics.ca
X-WR-CALDESC:Events for Hush Acoustics
REFRESH-INTERVAL;VALUE=DURATION:PT1H
X-Robots-Tag:noindex
X-PUBLISHED-TTL:PT1H
BEGIN:VTIMEZONE
TZID:America/Halifax
BEGIN:DAYLIGHT
TZOFFSETFROM:-0400
TZOFFSETTO:-0300
TZNAME:ADT
DTSTART:20240310T060000
END:DAYLIGHT
BEGIN:STANDARD
TZOFFSETFROM:-0300
TZOFFSETTO:-0400
TZNAME:AST
DTSTART:20241103T050000
END:STANDARD
BEGIN:DAYLIGHT
TZOFFSETFROM:-0400
TZOFFSETTO:-0300
TZNAME:ADT
DTSTART:20250309T060000
END:DAYLIGHT
BEGIN:STANDARD
TZOFFSETFROM:-0300
TZOFFSETTO:-0400
TZNAME:AST
DTSTART:20251102T050000
END:STANDARD
BEGIN:DAYLIGHT
TZOFFSETFROM:-0400
TZOFFSETTO:-0300
TZNAME:ADT
DTSTART:20260308T060000
END:DAYLIGHT
BEGIN:STANDARD
TZOFFSETFROM:-0300
TZOFFSETTO:-0400
TZNAME:AST
DTSTART:20261101T050000
END:STANDARD
END:VTIMEZONE
BEGIN:VEVENT
DTSTART;TZID=America/Halifax:20250407T080000
DTEND;TZID=America/Halifax:20250409T170000
DTSTAMP:20260424T233529
CREATED:20250324T202927Z
LAST-MODIFIED:20250324T202927Z
UID:13964-1744012800-1744218000@hushacoustics.ca
SUMMARY:RC Show
DESCRIPTION:Visit Hush at the RC Show 2025\, connect with our Acoustic Experts\, get a sample and a brochure\, and discover our innovative acoustic solutions designed to meet your restaurant’s acoustic needs!
URL:https://hushacoustics.ca/event/rc-show/
LOCATION:Enercare Centre\, #1\, 100 Princes' Blvd\, Toronto\, Ontario\, M6K 3C3\, Canada
CATEGORIES:Conferences & Trade Shows
ATTACH;FMTTYPE=image/jpeg:https://hushacoustics.ca/wp-content/uploads/2025/03/Events-Cover_RCShow.jpg
ORGANIZER;CN="Restaurants Canada":MAILTO:rcshow@restaurantscanada.org
END:VEVENT
END:VCALENDAR