BEGIN:VCALENDAR
VERSION:2.0
PRODID:-//Hush Acoustics - ECPv6.15.20//NONSGML v1.0//EN
CALSCALE:GREGORIAN
METHOD:PUBLISH
X-ORIGINAL-URL:https://hushacoustics.ca
X-WR-CALDESC:Events for Hush Acoustics
REFRESH-INTERVAL;VALUE=DURATION:PT1H
X-Robots-Tag:noindex
X-PUBLISHED-TTL:PT1H
BEGIN:VTIMEZONE
TZID:UTC
BEGIN:STANDARD
TZOFFSETFROM:+0000
TZOFFSETTO:+0000
TZNAME:UTC
DTSTART:20240101T000000
END:STANDARD
END:VTIMEZONE
BEGIN:VEVENT
DTSTART;TZID=UTC:20251203T080000
DTEND;TZID=UTC:20251205T170000
DTSTAMP:20260424T134641
CREATED:20250815T212259Z
LAST-MODIFIED:20250815T212259Z
UID:14809-1764748800-1764954000@hushacoustics.ca
SUMMARY:The Buildings Show
DESCRIPTION:We are so excited to meet you and show our products at The Buildings Show in Toronto\, Dec 3-5th\, 2025. Stop by our Booth to get a sample of our acoustic material\, get a catalog\, and take a picture. There you will be able to engage with our experts\, and discover how we can help you achieve your project goals in a greener way!
URL:https://hushacoustics.ca/event/the-buildings-show-2/
LOCATION:Metro Toronto Convention Centre\, 255 Front St W\, Toronto\, ON\, M5V 2W6\, Canada
CATEGORIES:Conferences & Trade Shows
ATTACH;FMTTYPE=image/jpeg:https://hushacoustics.ca/wp-content/uploads/2025/08/Hush_Events-Buildings-Show.jpg
END:VEVENT
BEGIN:VEVENT
DTSTART;TZID=UTC:20260122T080000
DTEND;TZID=UTC:20260125T170000
DTSTAMP:20260424T134641
CREATED:20260107T200722Z
LAST-MODIFIED:20260107T202124Z
UID:19055-1769068800-1769360400@hushacoustics.ca
SUMMARY:IDS Toronto 2026
DESCRIPTION:Visit Hush at The Interior Design Show 2026 · Toronto edition\, connect with our Acoustic Experts at our Japanese-inspired Booth. Discover our innovative acoustic solutions designed to meet your project ideas! Hush Booth #1434
URL:https://hushacoustics.ca/event/ids-toronto-2026/
LOCATION:Metro Toronto Convention Centre\, 255 Front St W\, Toronto\, ON\, M5V 2W6\, Canada
CATEGORIES:Conferences & Trade Shows
END:VEVENT
BEGIN:VEVENT
DTSTART;TZID=UTC:20260429T160000
DTEND;TZID=UTC:20260429T190000
DTSTAMP:20260424T134641
CREATED:20260406T143034Z
LAST-MODIFIED:20260406T143034Z
UID:23444-1777478400-1777489200@hushacoustics.ca
SUMMARY:Alberta Wall and Ceiling Association Show
DESCRIPTION:Join us at this all-industry trade show hosted by AWCA\, bringing together contractors\, engineers\, architects\, designers\, and key players from across the wall and ceiling industry. \nBe sure to visit Hush’s tabletop to explore our latest product launches and innovative acoustic solutions. Our acoustic expert will be on-site throughout the day to connect\, answer your questions\, and help bring your next project to life.
URL:https://hushacoustics.ca/event/alberta-wall-and-ceiling-association-show/
LOCATION:Alberta Aviation Museum\, 11410 Kingsway NW\, Edmonton\, AB\, T5G 0X3\, Canada
ATTACH;FMTTYPE=image/jpeg:https://hushacoustics.ca/wp-content/uploads/2026/04/Hush_Events-Page_AWCAS.jpg
END:VEVENT
END:VCALENDAR