BEGIN:VCALENDAR
VERSION:2.0
PRODID:-//Hush Acoustics - ECPv6.15.20//NONSGML v1.0//EN
CALSCALE:GREGORIAN
METHOD:PUBLISH
X-WR-CALNAME:Hush Acoustics
X-ORIGINAL-URL:https://hushacoustics.ca
X-WR-CALDESC:Events for Hush Acoustics
REFRESH-INTERVAL;VALUE=DURATION:PT1H
X-Robots-Tag:noindex
X-PUBLISHED-TTL:PT1H
BEGIN:VTIMEZONE
TZID:UTC
BEGIN:STANDARD
TZOFFSETFROM:+0000
TZOFFSETTO:+0000
TZNAME:UTC
DTSTART:20230101T000000
END:STANDARD
END:VTIMEZONE
BEGIN:VTIMEZONE
TZID:America/Halifax
BEGIN:DAYLIGHT
TZOFFSETFROM:-0400
TZOFFSETTO:-0300
TZNAME:ADT
DTSTART:20240310T060000
END:DAYLIGHT
BEGIN:STANDARD
TZOFFSETFROM:-0300
TZOFFSETTO:-0400
TZNAME:AST
DTSTART:20241103T050000
END:STANDARD
BEGIN:DAYLIGHT
TZOFFSETFROM:-0400
TZOFFSETTO:-0300
TZNAME:ADT
DTSTART:20250309T060000
END:DAYLIGHT
BEGIN:STANDARD
TZOFFSETFROM:-0300
TZOFFSETTO:-0400
TZNAME:AST
DTSTART:20251102T050000
END:STANDARD
BEGIN:DAYLIGHT
TZOFFSETFROM:-0400
TZOFFSETTO:-0300
TZNAME:ADT
DTSTART:20260308T060000
END:DAYLIGHT
BEGIN:STANDARD
TZOFFSETFROM:-0300
TZOFFSETTO:-0400
TZNAME:AST
DTSTART:20261101T050000
END:STANDARD
END:VTIMEZONE
BEGIN:VEVENT
DTSTART;TZID=UTC:20260122T080000
DTEND;TZID=UTC:20260125T170000
DTSTAMP:20260423T212206
CREATED:20260107T200722Z
LAST-MODIFIED:20260107T202124Z
UID:19055-1769068800-1769360400@hushacoustics.ca
SUMMARY:IDS Toronto 2026
DESCRIPTION:Visit Hush at The Interior Design Show 2026 · Toronto edition\, connect with our Acoustic Experts at our Japanese-inspired Booth. Discover our innovative acoustic solutions designed to meet your project ideas! Hush Booth #1434
URL:https://hushacoustics.ca/event/ids-toronto-2026/
LOCATION:Metro Toronto Convention Centre\, 255 Front St W\, Toronto\, ON\, M5V 2W6\, Canada
CATEGORIES:Conferences & Trade Shows
END:VEVENT
BEGIN:VEVENT
DTSTART;TZID=UTC:20251203T080000
DTEND;TZID=UTC:20251205T170000
DTSTAMP:20260423T212206
CREATED:20250815T212259Z
LAST-MODIFIED:20250815T212259Z
UID:14809-1764748800-1764954000@hushacoustics.ca
SUMMARY:The Buildings Show
DESCRIPTION:We are so excited to meet you and show our products at The Buildings Show in Toronto\, Dec 3-5th\, 2025. Stop by our Booth to get a sample of our acoustic material\, get a catalog\, and take a picture. There you will be able to engage with our experts\, and discover how we can help you achieve your project goals in a greener way!
URL:https://hushacoustics.ca/event/the-buildings-show-2/
LOCATION:Metro Toronto Convention Centre\, 255 Front St W\, Toronto\, ON\, M5V 2W6\, Canada
CATEGORIES:Conferences & Trade Shows
ATTACH;FMTTYPE=image/jpeg:https://hushacoustics.ca/wp-content/uploads/2025/08/Hush_Events-Buildings-Show.jpg
END:VEVENT
BEGIN:VEVENT
DTSTART;TZID=UTC:20250925T080000
DTEND;TZID=UTC:20250928T170000
DTSTAMP:20260423T212206
CREATED:20250815T211722Z
LAST-MODIFIED:20250815T211722Z
UID:14804-1758787200-1759078800@hushacoustics.ca
SUMMARY:IDS Vancouver
DESCRIPTION:Visit Hush at The Interior Design Show 2025. Join us at this amazing event where innovation\, creativity\, and cutting-edge solutions come together. Experience the acoustic alleyways with great acoustic impact\, and talk to our experts about how we can help you with sustainable\, high-quality materials for your next project! \nBooth #940
URL:https://hushacoustics.ca/event/ids-vancouver-2/
LOCATION:Vancouver Convention Centre West\, Canada Pl\, Vancouver\, BC\, V6C 3G3\, Canada
CATEGORIES:Conferences & Trade Shows
ATTACH;FMTTYPE=image/jpeg:https://hushacoustics.ca/wp-content/uploads/2025/08/Hush_Events-IDS-Vancouver-2025.jpg
END:VEVENT
BEGIN:VEVENT
DTSTART;TZID=America/Halifax:20250407T080000
DTEND;TZID=America/Halifax:20250409T170000
DTSTAMP:20260423T212206
CREATED:20250324T202927Z
LAST-MODIFIED:20250324T202927Z
UID:13964-1744012800-1744218000@hushacoustics.ca
SUMMARY:RC Show
DESCRIPTION:Visit Hush at the RC Show 2025\, connect with our Acoustic Experts\, get a sample and a brochure\, and discover our innovative acoustic solutions designed to meet your restaurant’s acoustic needs!
URL:https://hushacoustics.ca/event/rc-show/
LOCATION:Enercare Centre\, #1\, 100 Princes' Blvd\, Toronto\, Ontario\, M6K 3C3\, Canada
CATEGORIES:Conferences & Trade Shows
ATTACH;FMTTYPE=image/jpeg:https://hushacoustics.ca/wp-content/uploads/2025/03/Events-Cover_RCShow.jpg
ORGANIZER;CN="Restaurants Canada":MAILTO:rcshow@restaurantscanada.org
END:VEVENT
BEGIN:VEVENT
DTSTART;TZID=UTC:20250123T080000
DTEND;TZID=UTC:20250126T170000
DTSTAMP:20260423T212206
CREATED:20241129T160301Z
LAST-MODIFIED:20241129T160301Z
UID:11279-1737619200-1737910800@hushacoustics.ca
SUMMARY:IDS Toronto
DESCRIPTION:Visit Hush at The Interior Design Show 2025\, connect with our Acoustic Experts at our Gallery Booth. Discover our innovative acoustic solutions designed to meet your project ideas!
URL:https://hushacoustics.ca/event/ids-toronto/
LOCATION:Metro Toronto Convention Centre\, 255 Front St W\, Toronto\, ON\, M5V 2W6\, Canada
CATEGORIES:Conferences & Trade Shows
ATTACH;FMTTYPE=image/jpeg:https://hushacoustics.ca/wp-content/uploads/2024/11/IDS-Toronto-Events-Cover.jpg
END:VEVENT
BEGIN:VEVENT
DTSTART;TZID=UTC:20241204T080000
DTEND;TZID=UTC:20241206T170000
DTSTAMP:20260423T212206
CREATED:20240627T183206Z
LAST-MODIFIED:20240724T163758Z
UID:9176-1733299200-1733504400@hushacoustics.ca
SUMMARY:The Buildings Show
DESCRIPTION:We are so excited to meet you and show our products at The Buildings Show in Toronto\, Dec 4-6th\, 2024. Stop by our Booth to get a sample of our acoustic material\, get a catalog\, and take a picture. There you will be able to engage with our experts\, and discover how we can help you achieve your project goals in a greener way!
URL:https://hushacoustics.ca/event/the-buildings-show/
LOCATION:Metro Toronto Convention Centre\, 255 Front St W\, Toronto\, ON\, M5V 2W6\, Canada
CATEGORIES:Conferences & Trade Shows
ATTACH;FMTTYPE=image/jpeg:https://hushacoustics.ca/wp-content/uploads/2024/06/TBS_Events-Cover.jpg
END:VEVENT
BEGIN:VEVENT
DTSTART;TZID=UTC:20241107T080000
DTEND;TZID=UTC:20241107T170000
DTSTAMP:20260423T212206
CREATED:20240627T180635Z
LAST-MODIFIED:20240724T163811Z
UID:9162-1730966400-1730998800@hushacoustics.ca
SUMMARY:Expo Contech Montreal
DESCRIPTION:Visit Hush at Expo Contech Montreal to discover our innovative acoustic solutions. Interact with our sound experts\, and engage in collaborative discussions on the future of acoustic control. We’re excited to share our insights and products that are shaping experiences to interior designers and architects.
URL:https://hushacoustics.ca/event/expo-contech-montreal/
LOCATION:Palais des congrès de Montréal\, 200 avenue Viger Ouest\, Montreal\, QC\, H2Z 1K4\, Canada
CATEGORIES:Conferences & Trade Shows
ATTACH;FMTTYPE=image/jpeg:https://hushacoustics.ca/wp-content/uploads/2024/06/Contech_Events-Cover.jpg
END:VEVENT
BEGIN:VEVENT
DTSTART;TZID=UTC:20241029T120000
DTEND;TZID=UTC:20241029T193000
DTSTAMP:20260423T212206
CREATED:20240923T183413Z
LAST-MODIFIED:20241002T155742Z
UID:10912-1730203200-1730230200@hushacoustics.ca
SUMMARY:APDIQ · Montreal
DESCRIPTION:Interact with our sound experts and engage in collaborative discussions on the future of acoustic control at the Montreal edition of the APDIQ Annual Conference on October 29th\, 2024.
URL:https://hushacoustics.ca/event/apdiq-%c2%b7-montreal/
LOCATION:Old Port of Montreal Lookout\, 2 Rue de la Commune O\, Montreal\, QB\, H2Y 4B2\, Canada
CATEGORIES:Conferences & Trade Shows
ATTACH;FMTTYPE=image/jpeg:https://hushacoustics.ca/wp-content/uploads/2024/09/APDIQ_Events-Cover.jpg
END:VEVENT
BEGIN:VEVENT
DTSTART;TZID=UTC:20241024T140000
DTEND;TZID=UTC:20241024T190000
DTSTAMP:20260423T212206
CREATED:20241001T162836Z
LAST-MODIFIED:20241001T162836Z
UID:10953-1729778400-1729796400@hushacoustics.ca
SUMMARY:IDeA Design Exhibition
DESCRIPTION:Join Hush Acoustics at the IDeA Design Exhibition\, Alberta’s premier event for showcasing the latest innovations\, products\, and services in the interior design industry. This annual gathering brings together hundreds of interior designers\, architects\, students\, and design enthusiasts\, creating a vibrant space for networking\, inspiration\, and idea exchange. \nEngage with our acoustic experts\, and get to know the latest on acoustic innovations!
URL:https://hushacoustics.ca/event/idea-design-exhibition/
LOCATION:BMO Centre\, 20 Round Up Way SE\, Calgary\, AB\, T2G 2W1\, Canada
CATEGORIES:Conferences & Trade Shows
ATTACH;FMTTYPE=image/jpeg:https://hushacoustics.ca/wp-content/uploads/2024/09/IDEA_Events-Cover.jpg
END:VEVENT
BEGIN:VEVENT
DTSTART;TZID=UTC:20241016T153000
DTEND;TZID=UTC:20241016T200000
DTSTAMP:20260423T212206
CREATED:20241001T162256Z
LAST-MODIFIED:20241002T155750Z
UID:10962-1729092600-1729108800@hushacoustics.ca
SUMMARY:MDE · Manitoba Design Exposition
DESCRIPTION:Join Hush Acoustics for an incredible one-day trade show for Manitoba’s design community. Discover the latest products and services\, connect with our acoustic experts\, and explore cutting-edge innovations in acoustic solutions.
URL:https://hushacoustics.ca/event/mde-%c2%b7-manitoba-design-exposition/
LOCATION:Victoria Inn\, 1808 Wellington Ave\, Winnipeg\, MB\, R3H 0G3\, Canada
CATEGORIES:Conferences & Trade Shows
ATTACH;FMTTYPE=image/jpeg:https://hushacoustics.ca/wp-content/uploads/2024/10/PIDIM_Events-Cover.jpg
END:VEVENT
BEGIN:VEVENT
DTSTART;TZID=UTC:20240926T080000
DTEND;TZID=UTC:20240929T170000
DTSTAMP:20260423T212206
CREATED:20240627T174811Z
LAST-MODIFIED:20240724T163824Z
UID:9151-1727337600-1727629200@hushacoustics.ca
SUMMARY:IDS Vancouver
DESCRIPTION:Visit Hush at The Interior Design Show 2024\, join us at this amazing event\, where innovation\, creativity\, and cutting-edge solutions come together. Eco-conscious projects: Transforming your ideas into beautiful\, planet-friendly acoustic printed murals\, lighting\, planters\, and much more!
URL:https://hushacoustics.ca/event/ids-vancouver/
LOCATION:Vancouver Convention Centre West\, Canada Pl\, Vancouver\, BC\, V6C 3G3\, Canada
CATEGORIES:Conferences & Trade Shows
ATTACH;FMTTYPE=image/jpeg:https://hushacoustics.ca/wp-content/uploads/2024/06/IDS-Vanvouver_Events-Cover.jpg
END:VEVENT
END:VCALENDAR