BEGIN:VCALENDAR
VERSION:2.0
PRODID:-//Hush Acoustics - ECPv6.15.20//NONSGML v1.0//EN
CALSCALE:GREGORIAN
METHOD:PUBLISH
X-ORIGINAL-URL:https://hushacoustics.ca
X-WR-CALDESC:Events for Hush Acoustics
REFRESH-INTERVAL;VALUE=DURATION:PT1H
X-Robots-Tag:noindex
X-PUBLISHED-TTL:PT1H
BEGIN:VTIMEZONE
TZID:UTC
BEGIN:STANDARD
TZOFFSETFROM:+0000
TZOFFSETTO:+0000
TZNAME:UTC
DTSTART:20230101T000000
END:STANDARD
END:VTIMEZONE
BEGIN:VEVENT
DTSTART;TZID=UTC:20241024T140000
DTEND;TZID=UTC:20241024T190000
DTSTAMP:20260425T110046
CREATED:20241001T162836Z
LAST-MODIFIED:20241001T162836Z
UID:10953-1729778400-1729796400@hushacoustics.ca
SUMMARY:IDeA Design Exhibition
DESCRIPTION:Join Hush Acoustics at the IDeA Design Exhibition\, Alberta’s premier event for showcasing the latest innovations\, products\, and services in the interior design industry. This annual gathering brings together hundreds of interior designers\, architects\, students\, and design enthusiasts\, creating a vibrant space for networking\, inspiration\, and idea exchange. \nEngage with our acoustic experts\, and get to know the latest on acoustic innovations!
URL:https://hushacoustics.ca/event/idea-design-exhibition/
LOCATION:BMO Centre\, 20 Round Up Way SE\, Calgary\, AB\, T2G 2W1\, Canada
CATEGORIES:Conferences & Trade Shows
ATTACH;FMTTYPE=image/jpeg:https://hushacoustics.ca/wp-content/uploads/2024/09/IDEA_Events-Cover.jpg
END:VEVENT
END:VCALENDAR